Workbook

Sheet характеристика мкд
Q1: УТВЕРЖДЕН
Q2: постановлением администрации МО
Q3: Кузьмоловское ГП
Q4: от _________ 2015 года № _____
A6: Краткосрочный муниципальный план реализации в 2015 году Региональной программы капитального ремонта общего имущества в многоквратирных домах, расположенных на территории МО Кузьмоловское городское поселение Всеволожского муниципального района Ленинградской области
D7: I. Перечень многоквратирных домов, которые подлежат капитальному ремонту в 2015 году с учетом мер государственной поддержки
A9: № п/п | B9: Адрес МКД | C9: Год | E9: Материал стен | F9: Количество этажей | G9: Количество подъездов | H9: общая площадь МКД, всего | I9: Площадь помещений МКД: | K9: Количество жителей, зарегистрированных в МКД | L9: Стоимость капитального ремонта | Q9: Удельная стоимость капитального ремонта 1 кв. м общей площади помещений МКД | R9: Предельная стоимость капитального ремонта 1 кв. м общей площади помещений МКД | S9: Плановая дата завершения работ | T9: способ формирования фонда капитального ремонта
C10: ввода в эксплуатацию | D10: завершение последнего капитального ремонта | I10: всего: | J10: в том числе жилых помещений, находящихся в собственности граждан | L10: всего:
M11: федеральный бюджет | N11: областной бюджет | O11: за счет средств местного бюджета | P11: за счет средств собственников помещений в МКД
H12: кв.м | I12: кв.м | J12: кв.м | K12: чел. | L12: руб. | O12: руб. | P12: руб. | Q12: руб./кв.м | R12: руб./кв.м
A13: 1 | B13: 2 | C13: 3 | D13: 4 | E13: 5 | F13: 6 | G13: 7 | H13: 8 | I13: 9 | J13: 10 | K13: 11 | L13: 12 | M13: 13 | N13: 14 | O13: 15 | P13: 16 | Q13: 17 | R13: 18 | S13: 19 | T13: 20
A14: Муниципальное образование Кузьмоловское городское поселение
A15: 26 | B15: Г.п. Кузьмоловский, ул. Строителей, д. 3 | C15: 1975 | E15: Кирпич | F15: 9 | G15: 2 | H15: 3915 | I15: 2285.4 | J15: 2240 | K15: 161 | L15: ='виды работ'!C12 -> 917751 | M15: 0 | N15: 591949 | O15: 183550 | P15: =L15-M15-N15-O15 -> 142252 | Q15: =L15/H15 -> 234.41916 | R15: 13912 | S15: 30.12.2016 | T15: РО
A16: =A15+1 -> 27 | B16: Г.п. Кузьмоловский, ул. Строителей, д. 5 | C16: 1976 | E16: Кирпич | F16: 9 | G16: 2 | H16: 3915 | I16: 2200.6 | J16: 2046.55 | K16: 184 | L16: ='виды работ'!C13 -> 917751 | M16: 0 | N16: 591949 | O16: 183550 | P16: =L16-M16-N16-O16 -> 142252 | Q16: =L16/H16 -> 234.41916 | R16: 13912 | S16: 30.12.2016 | T16: РО
A17: =A16+1 -> 28 | B17: Г.п. Кузьмоловский, ул. Строителей, д. 7 | C17: 1976 | E17: Кирпич | F17: 9 | G17: 2 | H17: 3915 | I17: 2212 | J17: 2057.16 | K17: 145 | L17: ='виды работ'!C14 -> 917751 | M17: 0 | N17: 591949 | O17: 183550 | P17: =L17-M17-N17-O17 -> 142252 | Q17: =L17/H17 -> 234.41916 | R17: 13912 | S17: 30.12.2016 | T17: РО
A18: =A17+1 -> 29 | B18: Г.п. Кузьмоловский, ул. Строителей, д. 9 | C18: 1975 | E18: Кирпич | F18: 9 | G18: 2 | H18: 3915 | I18: 2253 | J18: 2095.29 | K18: 171 | L18: ='виды работ'!C15 -> 917751 | M18: 0 | N18: 591949 | O18: 183550 | P18: =L18-M18-N18-O18 -> 142252 | Q18: =L18/H18 -> 234.41916 | R18: 13912 | S18: 30.12.2016 | T18: РО
A19: =A18+1 -> 30 | B19: Г.п. Кузьмоловский, ул. Юбилейная, д. 28 | C19: 1975 | E19: Кирпич | F19: 5 | G19: 5 | H19: 4399 | I19: 2617 | J19: 2433.81 | K19: 199 | L19: ='виды работ'!C16 -> 4958112 | M19: 0 | N19: 3197982 | O19: 991623 | P19: =L19-M19-N19-O19 -> 768507 | Q19: =L19/H19 -> 1127.0998 | R19: 13912 | S19: 30.12.2016 | T19: РО
A20: =A19+1 -> 31 | B20: Г.п. Кузьмоловский, ул. Юбилейная, д. 30 | C20: 1975 | E20: Кирпич | F20: 5 | G20: 5 | H20: 4399 | I20: 2592 | J20: 2410.56 | K20: 216 | L20: ='виды работ'!C17 -> 4958112 | M20: 0 | N20: 3197982 | O20: 991623 | P20: =L20-M20-N20-O20 -> 768507 | Q20: =L20/H20 -> 1127.0998 | R20: 13912 | S20: 30.12.2016 | T20: РО
A21: =A20+1 -> 32 | B21: Г.п. Кузьмоловский, ул. Школьная, д. 14 | C21: 1956 | E21: Кирпич | F21: 2 | G21: 2 | H21: 696 | I21: 388.3 | J21: 361.11 | K21: 30 | L21: ='виды работ'!C18 -> 2369903 | M21: 0 | N21: 1528587 | O21: 473981 | P21: =L21-M21-N21-O21 -> 367335 | Q21: =L21/H21 -> 3405.033 | R21: 13912 | S21: 30.12.2016 | T21: РО
A22: =A21+1 -> 33 | B22: Г.п. Кузьмоловский, ул. Школьная, д. 9а | C22: 1973 | E22: Кирпич | F22: 9 | G22: 1 | H22: 1962 | I22: 1205 | J22: 1120.65 | K22: 80 | L22: ='виды работ'!C19 -> 1621136 | M22: 0 | N22: 1045633 | O22: 324227 | P22: =L22-M22-N22-O22 -> 251276 | Q22: =L22/H22 -> 826.26707 | R22: 13912 | S22: 30.12.2016 | T22: РО
A23: Итого по муниципальному образованию | C23: х | D23: х | E23: х | F23: х | G23: х | H23: =SUM(H15:H22) -> 27116 | I23: =SUM(I15:I22) -> 15753.3 | J23: =SUM(J15:J22) -> 14765.13 | K23: =SUM(K15:K22) -> 1186 | L23: =SUM(L15:L22) -> 17578267 | M23: =SUM(M15:M22) -> 0 | N23: =SUM(N15:N22) -> 11337980 | O23: =SUM(O15:O22) -> 3515654 | ... Q23: =SUM(Q15:Q22) -> 7423.1763 | R23: х | S23: х | T23: х
A24: Итого по муниципальному образованию со строительным контролем | D24: х | E24: х | F24: х | G24: х | H24: х | I24: х | J24: х | K24: х | L24: 17954442 | M24: 0 | N24: 11337980 | O24: 3515654 | P24: 3100807.9 | Q24: х | R24: х | S24: х | T24: х

Sheet виды работ
E3: II. Реестр многоквратирных домов, которые подлежат капитальному ремонту в 2015 году с учетом мер государственной поддержки
A5: № п\п | B5: Адрес МКД | C5: Стоимость капитального ремонта ВСЕГО | D5: виды работ
D6: ремонт внутридомовых инженерных систем | J6: ремонт или замена лифтового оборудования | L6: ремонт крыши | N6: ремонт подвальных помещений | P6: ремонт фасада | R6: ремонт фундамента | T6: утепление фасадов | V6: Установка коллективных (общедомовых) ПУ и УУ | W6: Проектные работы
D7: Всего работ по инженерным системам | E7: в том числе
E8: Ремонт сетей электроснабжения | F8: Ремонт сетей теплоснабжения | G8: Ремонт сетей холодного водоснабжения | H8: Ремонт сетей горячего водоснабжения | I8: Ремонт систем водоотведения
C9: руб. | D9: руб. | E9: руб. | F9: руб. | G9: руб. | H9: руб. | I9: руб. | J9: ед. | K9: руб. | L9: кв.м. | M9: руб. | N9: кв.м. | O9: руб. | P9: кв.м. | Q9: руб. | R9: куб.м. | S9: руб. | T9: кв.м. | U9: руб. | V9: руб. | W9: руб.
A10: 1 | B10: 2 | C10: 3 | D10: 4 | E10: 5 | F10: 6 | G10: 7 | H10: 8 | I10: 9 | J10: 10 | K10: 11 | L10: 12 | M10: 13 | N10: 14 | O10: 15 | P10: 16 | Q10: 17 | R10: 18 | S10: 19 | T10: 20 | U10: 21 | V10: 22 | W10: 23
A11: Муниципальное образование Кузьмоловсоке городское поселение
A12: 26 | B12: Г.п. Кузьмоловский, ул. Строителей, д. 3 | C12: =D12+K12+M12+O12+Q12+S12+U12+V12+W12 -> 917751 | L12: 607.5 | M12: 917751
A13: =A12+1 -> 27 | B13: Г.п. Кузьмоловский, ул. Строителей, д. 5 | C13: =D13+K13+M13+O13+Q13+S13+U13+V13+W13 -> 917751 | L13: 607.5 | M13: 917751
A14: =A13+1 -> 28 | B14: Г.п. Кузьмоловский, ул. Строителей, д. 7 | C14: =D14+K14+M14+O14+Q14+S14+U14+V14+W14 -> 917751 | L14: 607.5 | M14: 917751
A15: =A14+1 -> 29 | B15: Г.п. Кузьмоловский, ул. Строителей, д. 9 | C15: =D15+K15+M15+O15+Q15+S15+U15+V15+W15 -> 917751 | L15: 607.5 | M15: 917751
A16: =A15+1 -> 30 | B16: Г.п. Кузьмоловский, ул. Юбилейная, д. 28 | C16: =D16+K16+M16+O16+Q16+S16+U16+V16+W16 -> 4958112 | L16: 1181 | M16: 3368626 | T16: 430 | U16: 1589486
A17: =A16+1 -> 31 | B17: Г.п. Кузьмоловский, ул. Юбилейная, д. 30 | C17: =D17+K17+M17+O17+Q17+S17+U17+V17+W17 -> 4958112 | L17: 1181 | M17: 3368626 | T17: 430 | U17: 1589486
A18: =A17+1 -> 32 | B18: Г.п. Кузьмоловский, ул. Школьная, д. 14 | C18: =D18+K18+M18+O18+Q18+S18+U18+V18+W18 -> 2369903 | D18: =E18+F18+G18+H18+I18 -> 403427 | F18: 403427 | L18: 741 | M18: 1966476
A19: =A18+1 -> 33 | B19: Г.п. Кузьмоловский, ул. Школьная, д. 9а | C19: =D19+K19+M19+O19+Q19+S19+U19+V19+W19 -> 1621136 | D19: =E19+F19+G19+H19+I19 -> 1167848 | G19: 562120 | H19: 605728 | L19: 357 | M19: 453288
A20: Итого по муниципальному образованию | C20: =SUM(C12:C19) -> 17578267 | D20: =SUM(D12:D19) -> 1571275 | F20: =SUM(F12:F19) -> 403427 | G20: =SUM(G12:G19) -> 562120 | H20: =SUM(H12:H19) -> 605728 | L20: =SUM(L12:L19) -> 5890 | M20: =SUM(M12:M19) -> 12828020 | T20: =SUM(T12:T19) -> 860 | U20: =SUM(U12:U19) -> 3178972
A21: Осуществление строительного контроля | C21: 376174.91
A22: Итого по муниципальному образованию со строительным контролем | C22: 17954442
C24: =#REF!-#REF! -> #REF!
C25: =C24*2.14/100 -> #REF!
